BEGIN:VCALENDAR
VERSION:2.0
CALSCALE:GREGORIAN
PRODID:-//MyApp//Calendar 1.0//EN
BEGIN:VEVENT
METHOD:PUBLISH
UID:36864@regionalniportaly.cz
DTSTAMP:20260422T055635Z
DTSTART;VALUE=DATE:20231126
DTEND;VALUE=DATE:20231127
SUMMARY:Líný Kuba\, holé neštěstí
DESCRIPTION:Karasovo divadlo Tišnov uvádí v Divadle Boleradice\nLíný Kuba\, holé neštěstíPohádka\, 90 min Kuba je hrozně moc líný kluk\, který je při své cestě do světa poslán kouzelným dědečkem za svou neochotu na převýchovu k čarodějnici. Při své cestě se potká s hloupými loupežníky\, s vodníkem i s lakomým trpaslíkem. Při popleteném kouzlu omylem spustí nekonečný déšť a tak\, aby zachránil vesnici\, se vypraví do hor za dešťovou vílou. A jak to vše dopadne? Přijďte se podívat na veselou pohádku pro děti i dospělé\, kterou uvede Karasovo divadlo z Tišnova.
LOCATION:Boleradice
END:VEVENT
END:VCALENDAR