BEGIN:VCALENDAR
VERSION:2.0
CALSCALE:GREGORIAN
PRODID:-//MyApp//Calendar 1.0//EN
BEGIN:VEVENT
METHOD:PUBLISH
UID:36860@regionalniportaly.cz
DTSTAMP:20260422T042125Z
DTSTART;VALUE=DATE:20231119
DTEND;VALUE=DATE:20231120
SUMMARY:Z pohádky do pohádky
DESCRIPTION:V Divadle Boleradice hraje Divadlo Prkno Veverská Bítýška\nAkční pohádkové představení\, ve kterém Ježibaba z Perníkové chaloupky ve snaze chytit Jeníčka a Mařenku proběhne několik pohádek… 50 min
LOCATION:Boleradice
END:VEVENT
END:VCALENDAR