BEGIN:VCALENDAR
VERSION:2.0
CALSCALE:GREGORIAN
PRODID:-//MyApp//Calendar 1.0//EN
BEGIN:VEVENT
METHOD:PUBLISH
UID:36859@regionalniportaly.cz
DTSTAMP:20260422T042034Z
DTSTART;VALUE=DATE:20231118
DTEND;VALUE=DATE:20231119
SUMMARY:Na tý louce zelený
DESCRIPTION:Na tý louce zelenýOpereta\, 130 min Autorem českého operetního bestselleru Na tý louce zelený je hudební skladatel Jára Beneš\, který složil chytlavou hudbu a skvělé písničky k mnoha filmům (To neznáte Hadimršku\, Anton Špelec\, ostrostřelec a Přednosta stanice). Premiéra jeho operety Na tý louce zelený se konala 28. června roku 1935 v nuselském „Tyláčku“\, záhy přímo zlidověla a byla i zfilmována režisérem Karlem Lamačem s Járou Kohoutem\, Věrou Ferbasovou a Oldřichem Novým v hlavních rolích. Šlágry jako „Co by bylo do myslivce“\, „Venoušku\, Venoušku\, to se dělá“\, „Na tý louce zelený roste babyka“\, „Já bych chtěl mít tvé foto“ a další známé melodie\, jsou vtipně začleněné do příběhu o tom\, co se stane\, když si nová majitelka zděděného panství Alena Skalická pozve ke spolupráci potrhlého docenta zemědělských věd Bulfínka a zamiluje se přitom do svého zaměstnance\, lesního inženýra Jiřího Miláčka. A do toho všeho se navíc zapletou hajný Štětivec a jeho dcera Hančí.\nRežie: Jiří Merlíček
LOCATION:Boleradice
END:VEVENT
END:VCALENDAR