BEGIN:VCALENDAR
VERSION:2.0
CALSCALE:GREGORIAN
PRODID:-//MyApp//Calendar 1.0//EN
BEGIN:VEVENT
METHOD:PUBLISH
UID:35803@regionalniportaly.cz
DTSTAMP:20260422T042105Z
DTSTART;VALUE=DATE:20231028
DTEND;VALUE=DATE:20231029
SUMMARY:Setkání přátel Sueneé Universe ve Starovicích
DESCRIPTION:Zveme vás na setkání přátel a fanoušků zpravodajského serveru Sueneé Universe do Starovic! Pojďme společně tvořit nový vesmír\, setkat se v přátelské neformální atmosféře\, sdílet zážitky ze setkání s ET.Program setkání:16:00 ... registrace vstupenek17:00 ... Mimozemšťané a paralelní světy18:00 ... Meditace CE5 na přivolání ET19:00 ... Otázky a odpovědi a vaše příběhy s ET20:00 ... Předpokládaný konecTěší se na vás&nbsp\;Sueneé a Alexandra McKenzie.&nbsp\;
LOCATION:Starovice
END:VEVENT
END:VCALENDAR