BEGIN:VCALENDAR
VERSION:2.0
CALSCALE:GREGORIAN
PRODID:-//MyApp//Calendar 1.0//EN
BEGIN:VEVENT
METHOD:PUBLISH
UID:33273@regionalniportaly.cz
DTSTAMP:20260422T081724Z
DTSTART;VALUE=DATE:20230630
DTEND;VALUE=DATE:20230701
SUMMARY:Prázdniny u koní
DESCRIPTION:
LOCATION:Sobotovice
END:VEVENT
END:VCALENDAR