BEGIN:VCALENDAR
VERSION:2.0
CALSCALE:GREGORIAN
PRODID:-//MyApp//Calendar 1.0//EN
BEGIN:VEVENT
METHOD:PUBLISH
UID:33232@regionalniportaly.cz
DTSTAMP:20260422T021807Z
DTSTART;VALUE=DATE:20230527
DTEND;VALUE=DATE:20230528
SUMMARY:Foodfestival Ochutnej Pálavu
DESCRIPTION:Nejmlsnější foodfestival napříč Pálavou je tu. Těšit se můžeš na lokální i zahraniční pokrmy a delikatesy podávané z řad místních výrobců. Místní klub důchodců budou vyrábět langoše\, nebudou chybět vyhlášené burgery\, tapas\, oblíbené mexické bistro\, plněné lokše\, škvarkova a košt od místních dunajovických vinařů.Těšit se můžeš na celodenní program zakončený koncertem oblíbené kapely Denwer.
LOCATION:Dolní Dunajovice
END:VEVENT
END:VCALENDAR