BEGIN:VCALENDAR
VERSION:2.0
CALSCALE:GREGORIAN
PRODID:-//MyApp//Calendar 1.0//EN
BEGIN:VEVENT
METHOD:PUBLISH
UID:32110@regionalniportaly.cz
DTSTAMP:20260422T144508Z
DTSTART;VALUE=DATE:20230722
DTEND;VALUE=DATE:20230723
SUMMARY:MOZART NA MORAVĚ a Slavné italské melodie
DESCRIPTION:Itálie je místem prosluněným a oplývajícím překrásnou hudbou. Dramaturgie koncertu vám nabídne krásné árie a dueta z oper G. Verdiho\, G. Pucciniho\, P. Mascagniho\, Italských oper W. A. Mozarta ale i řadu současných melodií\, jako Conte partiro. Hvězdou koncertu je Italský tenorista Paolo Lardizzone\, který je v současnosti nejvyhledávanějším interpretem Italského operního repertoáru v České republice. Po jeho boku bude zářit skvělá Tereza Mátlová. Zástupci modernějšího žánru jsou tři nám již známé tváře Monika Sommerová\, Michal Bragagnolo a Amálie Kovácsová. Orchestr hraje pod taktovkou dirigenta Martina Peschika.Užijte si krásu letního večera\, skvělé hudby\, slavných pěvců u sklenky skvělého vína z vinařství Víno Jarmila s.r.o.&nbsp\;Miroslava Kovácse.&nbsp\;
LOCATION:Mikulov
END:VEVENT
END:VCALENDAR